BEGIN:VCALENDAR
VERSION:2.0
PRODID:-//goodneighborcommunityhealthcenter.com//NONSGML kigkonsult.se iCal
 creator 2.30.10//
CALSCALE:GREGORIAN
METHOD:PUBLISH
UID:4244716b-ee12-4b6f-b7a6-3f31ea11840d
X-WR-CALDESC:No es necesaria cita\, pero puede preinscribirse en vaccinate.
 ne.gov Las personas que necesitan un alojamiento pueden llamar a la línea 
 COVID-19 del Departamento de Salud del Distrito Este Central al (402) 562-
 8960.
X-WR-RELCALID:f40c3e02016c1054ac0bfd5e4470bbc0
X-WR-TIMEZONE:America/Chicago
BEGIN:VTIMEZONE
TZID:America/Chicago
BEGIN:STANDARD
TZNAME:CST
DTSTART:20211107T020000
TZOFFSETFROM:-0500
TZOFFSETTO:-0600
RDATE:20221106T020000
RDATE:20231105T020000
END:STANDARD
BEGIN:DAYLIGHT
TZNAME:CDT
DTSTART:20220313T020000
TZOFFSETFROM:-0600
TZOFFSETTO:-0500
RDATE:20230312T020000
END:DAYLIGHT
END:VTIMEZONE
BEGIN:VEVENT
UID:14ab98bc-372f-412d-81af-622ec55a7774
DTSTAMP:20260425T185123Z
DESCRIPTION:No es necesaria cita\, pero puede preinscribirse en vaccinate.n
 e.gov Las personas que necesitan un alojamiento pueden llamar a la línea C
 OVID-19 del Departamento de Salud del Distrito Este Central al (402) 562-8
 960.
DTSTART;TZID=America/Chicago:20220525T100000
DTEND;TZID=America/Chicago:20220525T190000
LOCATION:4321 41st Ave\, 4321 41st Ave\, Columbus\, NE 68601-2131 US
SUMMARY:Caminata en Clínica de Vacuna COVID-19
END:VEVENT
END:VCALENDAR
