BEGIN:VCALENDAR
VERSION:2.0
PRODID:-//goodneighborcommunityhealthcenter.com//NONSGML kigkonsult.se iCal
 creator 2.30.10//
CALSCALE:GREGORIAN
METHOD:PUBLISH
UID:10e78bee-9278-4618-ae5c-1996670fd584
X-WR-CALDESC:Need help enrolling in the Healthcare Marketplace?  Our Certif
 ied Application Counselors are here to help!  This assistance is FREE and 
 you do not have to be a patient of Good Neighbor to get this help.  Call (
 402) 562-8962 in Columbus or (402) 721-0951 in Fremont.
X-WR-RELCALID:905e21861320a2a5ae0fcc2d1bf5b862
X-WR-TIMEZONE:America/Chicago
BEGIN:VTIMEZONE
TZID:America/Chicago
BEGIN:STANDARD
TZNAME:CST
DTSTART:20241103T020000
TZOFFSETFROM:-0500
TZOFFSETTO:-0600
RDATE:20251102T020000
END:STANDARD
BEGIN:DAYLIGHT
TZNAME:CDT
DTSTART:20240310T020000
TZOFFSETFROM:-0600
TZOFFSETTO:-0500
RDATE:20250309T020000
RDATE:20260308T020000
END:DAYLIGHT
END:VTIMEZONE
BEGIN:VEVENT
UID:578cbfae-c27c-4a3f-9966-8bbc19ea4239
DTSTAMP:20260426T015452Z
DESCRIPTION:Need help enrolling in the Healthcare Marketplace?  Our Certifi
 ed Application Counselors are here to help!  This assistance is FREE and y
 ou do not have to be a patient of Good Neighbor to get this help.  Call (4
 02) 562-8962 in Columbus or (402) 721-0951 in Fremont.
DTSTART;TZID=America/Chicago:20241222T050000
DTEND;TZID=America/Chicago:20250307T050001
LOCATION:Good Neigbor\, 4321 41st Ave.\, Columbus\, NE 68601 US
SUMMARY:Open Enrollment in Healthcare Marketplace
END:VEVENT
END:VCALENDAR
